BEGIN:VCALENDAR
VERSION:2.0
PRODID:DPCALENDAR
CALSCALE:GREGORIAN
BEGIN:VTIMEZONE
TZID:Europe/Berlin
X-MICROSOFT-CDO-TZID:4
BEGIN:STANDARD
DTSTART:20251026T010000
TZOFFSETFROM:+0200
TZOFFSETTO:+0100
TZNAME:CET
END:STANDARD
BEGIN:STANDARD
DTSTART:20261025T010000
TZOFFSETFROM:+0200
TZOFFSETTO:+0100
TZNAME:CET
END:STANDARD
BEGIN:DAYLIGHT
DTSTART:20260329T010000
TZOFFSETFROM:+0100
TZOFFSETTO:+0200
TZNAME:CEST
END:DAYLIGHT
END:VTIMEZONE
X-WR-TIMEZONE:Europe/Berlin
BEGIN:VEVENT
DTSTART;VALUE=DATE:20260613
DTEND;VALUE=DATE:20260615
UID:75D9C54E-6093-4EA2-A5E5-D3052E52D09E
SUMMARY:🎀 Kinder- und Familienfestival
CREATED:20260401T183053Z
DTSTAMP:20260401T183053Z
URL:https://tvc-allstars.de/index.php/component/dpcalendar/event/2?calid=16
LAST-MODIFIED:20260418T090049Z
SEQUENCE:1434596
LOCATION:Königstraße\, Stuttgart\, Baden-Württemberg 70173\, Deutschland
GEO:48.77910700;9.17904580
X-LOCATION-DISPLAYNAME:Schlossplatz Stuttgart
X-ACCESS:1
X-HITS:10
X-COLOR:3366cc
X-SHOW-END-TIME:0
END:VEVENT
BEGIN:VEVENT
DTSTART;VALUE=DATE:20260718
DTEND;VALUE=DATE:20260720
UID:16264F10-53D1-4EAC-8944-ADF5DAC0C63B
SUMMARY:🎀 TVC Kids & Family Fest
CREATED:20260418T090234Z
DTSTAMP:20260418T090234Z
URL:https://tvc-allstars.de/index.php/component/dpcalendar/event/4?calid=16
LAST-MODIFIED:20260418T090249Z
SEQUENCE:15
X-ACCESS:1
X-HITS:5
X-COLOR:3366cc
X-SHOW-END-TIME:1
END:VEVENT
END:VCALENDAR